BEGIN:VCALENDAR
VERSION:2.0
PRODID:icalendar-ruby
CALSCALE:GREGORIAN
METHOD:PUBLISH
BEGIN:VEVENT
DTSTAMP:20260423T141337Z
UID:31-294870@memorialchurch.net
DTSTART;VALUE=DATE:20260626
DTEND;VALUE=DATE:20260628
CLASS:PUBLIC
CREATED:20260422T085204
DESCRIPTION:This special trip is for fathers and daughters of all ages. The
 re will be opportunities for fishing\, hiking\, boating\, and crafts.  We
  will have campfires and cook together. There are restroom and shower faci
 lities.  \n$30/ Father/daughter includes a camping site and food. \nIf 
 you would like to have an electric site\, you will need to book that on yo
 ur own and pay $15 for food..  https://mostateparks.com/park/finger-lakes
 \nYou can choose to stay for one or two nights but the cost is the same. 
  Most are planning to leave in time to come to church Sunday.\nTwo familie
 s will share a site.  Registration is limited by campsites available.  
 \n \nPlease register by June 19th. 
LAST-MODIFIED:20260422T085204
LOCATION:Finger Lake State Park
SUMMARY:Father/Daughter Camp Out
URL;VALUE=URI:https://memorialchurch.net/events/father-daughter-camp-out/20
 26-06-26
ATTACH;FILENAME=FAther--Daughter-Camp-out.png;FMTTYPE=image/png:https://dq5
 pwpg1q8ru0.cloudfront.net/2026/04/21/13/29/09/e1cc13c4-ed28-400e-aa4d-67fa
 cd95d4cc/FAther--Daughter-Camp-out.png
END:VEVENT
END:VCALENDAR
