BEGIN:VCALENDAR
VERSION:2.0
PRODID:icalendar-ruby
CALSCALE:GREGORIAN
METHOD:PUBLISH
BEGIN:VEVENT
DTSTAMP:20260423T082602Z
UID:29-295185@memorialchurch.net
DTSTART:20260527T230000Z
DTEND:20260528T003000Z
CLASS:PUBLIC
CREATED:20260422T220058
DESCRIPTION:When a loved one dies\, it can feel like you're alone. Few peop
 le understand how painful and isolating your grief can be. But that doesn'
 t mean you have to suffer by yourself.  \nAt GriefShare\, you'll find a 
 safe\, comforting place where you can talk to others about your grief. You
 'll find support\, direction\, and guidance on how to make it through.\nAt
  this 13-week grief recovery support group\, you will:\n\nHear insights fr
 om grief recovery experts\nMeet others who understand what you're going th
 rough\nReceive comfort and support.\nLearn practical tips for navigating y
 our grief\nDiscover the 6 signs of healing.\n\nDuring the group time you w
 ill watch a video with experts\, meet in small groups\, pray\, and go thro
 ugh a workbook.  
LAST-MODIFIED:20260422T220058
LOCATION:Memorial Baptist Church\, 1120 Madison St\, Jefferson City\, MO 65
 101
SUMMARY:GriefShare 
URL;VALUE=URI:https://memorialchurch.net/events/griefshare/2026-05-27
ATTACH;FILENAME=Screenshot-2026-04-15-at-10.37.02AM.png;FMTTYPE=image/png:h
 ttps://dq5pwpg1q8ru0.cloudfront.net/2026/04/15/17/57/31/878651e5-f456-47f2
 -ba37-856c7253b01c/Screenshot-2026-04-15-at-10.37.02AM.png
END:VEVENT
END:VCALENDAR
